BEGIN:VCALENDAR
VERSION:2.0
PRODID:-//Obec Kunčina - oficiální stránky obce//NONSGML kigkonsult.se iCal
 creator 2.30.10//
CALSCALE:GREGORIAN
METHOD:PUBLISH
UID:74de415c-e17f-4b28-a599-5639146bf119
X-WR-CALNAME:iCagenda
X-WR-CALDESC:Event Management Extension for Joomla!
X-WR-RELCALID:3E26604A-50F4-4449-8B3E-E4F4932D05B5
X-WR-TIMEZONE:Europe/Prague
BEGIN:VTIMEZONE
TZID:Europe/Prague
BEGIN:STANDARD
TZNAME:CET
DTSTART:20251026T030000
TZOFFSETFROM:+0200
TZOFFSETTO:+0100
RDATE:20261025T030000
END:STANDARD
BEGIN:DAYLIGHT
TZNAME:CEST
DTSTART:20250330T020000
TZOFFSETFROM:+0100
TZOFFSETTO:+0200
RDATE:20260329T020000
RDATE:20270328T020000
END:DAYLIGHT
END:VTIMEZONE
BEGIN:VEVENT
UID:5e1c3f2a-68da-40d7-be80-698dfb1cf8a0
DTSTAMP:20260419T084519Z
CATEGORIES:Sportovní akce a závody
CLASS:PUBLIC
DESCRIPTION:
DTSTART:20260314T042700Z
DTEND:20260314T170000Z
GEO:+49.795429;+16.639038
LOCATION:Sportovní areál Kunčina
ORGANIZER:
SEQUENCE:1
SUMMARY:Deset jarních kilometrů 2026
TRANSP:OPAQUE
URL:https://obeckuncina.cz/index.php/cs/kalendar-akci/303-deset-jarnich-kil
 ometru-2026
END:VEVENT
END:VCALENDAR
