BEGIN:VCALENDAR
VERSION:2.0
PRODID:-//Obec Kunčina - oficiální stránky obce//NONSGML kigkonsult.se iCal
 creator 2.30.10//
CALSCALE:GREGORIAN
METHOD:PUBLISH
UID:b4fe3515-6aa5-4e07-9a50-00eeee3f097a
X-WR-CALNAME:iCagenda
X-WR-CALDESC:Event Management Extension for Joomla!
X-WR-RELCALID:3E26604A-50F4-4449-8B3E-E4F4932D05B5
X-WR-TIMEZONE:Europe/Prague
BEGIN:VTIMEZONE
TZID:Europe/Prague
BEGIN:STANDARD
TZNAME:CET
DTSTART:20251026T030000
TZOFFSETFROM:+0200
TZOFFSETTO:+0100
RDATE:20261025T030000
END:STANDARD
BEGIN:DAYLIGHT
TZNAME:CEST
DTSTART:20260329T020000
TZOFFSETFROM:+0100
TZOFFSETTO:+0200
RDATE:20270328T020000
END:DAYLIGHT
END:VTIMEZONE
BEGIN:VEVENT
UID:bb406251-3b54-49bb-bddb-85537856cde6
DTSTAMP:20260419T143323Z
CATEGORIES:Beseda\, vzdělávací akce
CLASS:PUBLIC
DESCRIPTION;ALTREP="CID:<FFFF__=0ABBE548DFE235B58f9e8a93d@coffeebean.com>":
 Cestovatelská beseda s Kačkou Ostrou - Cestuji za Kačku.Místní knihovna Ku
 nčina zve širokou veřejnost na tradiční besídku s Kačkou Ostrou\, tentokrá
 t na téma KAPVERDY. Kateřina Ostrá – Matka\, čtyřicítka\, co neumí anglick
 y kváknout\, krom naší krásné češtiny ovládá jen mrtvou latinu a němčinu\,
  a přitom cestuje 'kade tade'. Taky za kačku\, tedy s minimálními náklady\
 , ale s maximálními vjemy a zážitky! Jo\, a s číší vína po okraj plnou a p
 artou svých 'FB spolucestujících'\, kteří jsou pro ni hybným motorem\, dův
 odem každého dalšího kroku\, motivací k úsměvu napříč všem cestovatelským 
 i životním jobovkám a rodinou. KAPVERDY: 'KAPVERDY\, to je navždy pouto a 
 navždy přátelství. To je s úsměvem od ucha k uchu podaná ruka\, kdykoli ji
  potřebujete. To je pevný\, jistý a hřejivý stisk. Nejen kolem vaší dlaně\
 , ale i kolem toho třísetgramového splašeného koně uvnitř vašeho hrudního 
 koše.'\n      Koupit
DTSTART:20260408T150000Z
DTEND:20260408T170000Z
GEO:+49.794487;+16.627338
LOCATION:Kulturní centrum Kunčina\, Kunčina 229\, 569 24 Kunčina
ORGANIZER:
SEQUENCE:1
SUMMARY:Cestuji za Kačku
TRANSP:OPAQUE
URL:https://obeckuncina.cz/index.php/cs/kalendar-akci/296-cestuji-za-kacku
END:VEVENT
END:VCALENDAR
